BEGIN:VCALENDAR
VERSION:2.0
PRODID:-//CPR Educators, Inc. - ECPv6.15.15//NONSGML v1.0//EN
CALSCALE:GREGORIAN
METHOD:PUBLISH
X-ORIGINAL-URL:https://cpreducatorsinc.com
X-WR-CALDESC:Events for CPR Educators, Inc.
REFRESH-INTERVAL;VALUE=DURATION:PT1H
X-Robots-Tag:noindex
X-PUBLISHED-TTL:PT1H
BEGIN:VTIMEZONE
TZID:America/New_York
BEGIN:DAYLIGHT
TZOFFSETFROM:-0500
TZOFFSETTO:-0400
TZNAME:EDT
DTSTART:20230312T070000
END:DAYLIGHT
BEGIN:STANDARD
TZOFFSETFROM:-0400
TZOFFSETTO:-0500
TZNAME:EST
DTSTART:20231105T060000
END:STANDARD
BEGIN:DAYLIGHT
TZOFFSETFROM:-0500
TZOFFSETTO:-0400
TZNAME:EDT
DTSTART:20240310T070000
END:DAYLIGHT
BEGIN:STANDARD
TZOFFSETFROM:-0400
TZOFFSETTO:-0500
TZNAME:EST
DTSTART:20241103T060000
END:STANDARD
BEGIN:DAYLIGHT
TZOFFSETFROM:-0500
TZOFFSETTO:-0400
TZNAME:EDT
DTSTART:20250309T070000
END:DAYLIGHT
BEGIN:STANDARD
TZOFFSETFROM:-0400
TZOFFSETTO:-0500
TZNAME:EST
DTSTART:20251102T060000
END:STANDARD
END:VTIMEZONE
BEGIN:VEVENT
DTSTART;TZID=America/New_York:20240709T174500
DTEND;TZID=America/New_York:20240709T210000
DTSTAMP:20260422T180150
CREATED:20240215T174439Z
LAST-MODIFIED:20240215T174439Z
UID:13521-1720547100-1720558800@cpreducatorsinc.com
SUMMARY:PEDIATRIC FIRST AID & CPR/AED
DESCRIPTION:The Heartsaver® Pediatric First Aid CPR AED course teaches students to respond to and manage illnesses and injuries in a child or an infant in the first few minutes until professional help arrives.  The course is intended for those involved in child care who have a duty to respond to children’s health emergencies\, including child-care workers\, teachers\, foster-care workers\, camp counselors\, youth organizations\, and coaches for children’s sports organizations. \nThis course meets all requirements set forth by the North Carolina Department of Health & Human Services – Division of Child Development & Early Education in regards to First Aid & CPR training for childcare workers. \nThis is an American Heart Association course and comes with a 2-year certificate after the successful completion of the course. \nThis First Aid Course will be held at our Raleigh\, NC office.
URL:https://cpreducatorsinc.com/class/pediatric-first-aid-07-09-24/
LOCATION:CPR Educators – Midtown\, 1631 Midtown Place - Suite 104\, Raleigh\, NC\, 27609\, United States
CATEGORIES:Certified First Aid Course in Raleigh,Pediatric
END:VEVENT
BEGIN:VEVENT
DTSTART;TZID=America/New_York:20240727T084500
DTEND;TZID=America/New_York:20240727T120000
DTSTAMP:20260422T180150
CREATED:20240215T170852Z
LAST-MODIFIED:20240627T194338Z
UID:13488-1722069900-1722081600@cpreducatorsinc.com
SUMMARY:PEDIATRIC FIRST AID & CPR/AED  **CLASS FULL**
DESCRIPTION:The Heartsaver® Pediatric First Aid CPR AED course teaches students to respond to and manage illnesses and injuries in a child or an infant in the first few minutes until professional help arrives.  The course is intended for those involved in child care who have a duty to respond to children’s health emergencies\, including child-care workers\, teachers\, foster-care workers\, camp counselors\, youth organizations\, and coaches for children’s sports organizations. \nThis course meets all requirements set forth by the North Carolina Department of Health & Human Services – Division of Child Development & Early Education in regards to First Aid & CPR training for childcare workers. \nThis is an American Heart Association course and comes with a 2-year certificate after the successful completion of the course. \nThis First Aid Course will be held at our Raleigh\, NC office.
URL:https://cpreducatorsinc.com/class/pediatric-first-aid-07-27-24/
LOCATION:CPR Educators – Midtown\, 1631 Midtown Place - Suite 104\, Raleigh\, NC\, 27609\, United States
CATEGORIES:Certified First Aid Course in Raleigh,Pediatric
END:VEVENT
END:VCALENDAR