BEGIN:VCALENDAR
VERSION:2.0
PRODID:-//CPR Educators, Inc. - ECPv6.15.15//NONSGML v1.0//EN
CALSCALE:GREGORIAN
METHOD:PUBLISH
X-ORIGINAL-URL:https://cpreducatorsinc.com
X-WR-CALDESC:Events for CPR Educators, Inc.
REFRESH-INTERVAL;VALUE=DURATION:PT1H
X-Robots-Tag:noindex
X-PUBLISHED-TTL:PT1H
BEGIN:VTIMEZONE
TZID:America/New_York
BEGIN:DAYLIGHT
TZOFFSETFROM:-0500
TZOFFSETTO:-0400
TZNAME:EDT
DTSTART:20250309T070000
END:DAYLIGHT
BEGIN:STANDARD
TZOFFSETFROM:-0400
TZOFFSETTO:-0500
TZNAME:EST
DTSTART:20251102T060000
END:STANDARD
BEGIN:DAYLIGHT
TZOFFSETFROM:-0500
TZOFFSETTO:-0400
TZNAME:EDT
DTSTART:20260308T070000
END:DAYLIGHT
BEGIN:STANDARD
TZOFFSETFROM:-0400
TZOFFSETTO:-0500
TZNAME:EST
DTSTART:20261101T060000
END:STANDARD
BEGIN:DAYLIGHT
TZOFFSETFROM:-0500
TZOFFSETTO:-0400
TZNAME:EDT
DTSTART:20270314T070000
END:DAYLIGHT
BEGIN:STANDARD
TZOFFSETFROM:-0400
TZOFFSETTO:-0500
TZNAME:EST
DTSTART:20271107T060000
END:STANDARD
END:VTIMEZONE
BEGIN:VEVENT
DTSTART;TZID=America/New_York:20260425T090000
DTEND;TZID=America/New_York:20260425T113000
DTSTAMP:20260420T210003
CREATED:20260413T151155Z
LAST-MODIFIED:20260413T151155Z
UID:14180-1777107600-1777116600@cpreducatorsinc.com
SUMMARY:BLS CPR for Healthcare Providers (Basic Life Support)
DESCRIPTION:This CPR Class is instructed in Raleigh\, North Carolina.  Basic Life Support (BLS) is the foundation for saving lives after cardiac arrest.  This course teaches both single-rescuer and team basic life support skills for application in both in-facility and prehospital settings.  This course is designed for medical & dental professionals including but not limited to Physicians\, Nurses\, LPN’s\, CNA’s\, Paramedic’s\, EMT’s\, Firefighters and other personnel who need to know how to perform CPR and other basic cardiovascular life support skills. *Actual end time may vary from session to session*
URL:https://cpreducatorsinc.com/class/bls-04-25-2026/
LOCATION:CPR Educators – Midtown\, 1631 Midtown Place - Suite 104\, Raleigh\, NC\, 27609\, United States
CATEGORIES:Basic Life Support CPR for Healthcare Providers
END:VEVENT
END:VCALENDAR